BEGIN:VCALENDAR
VERSION:2.0
PRODID:-//eventon.com NONSGML v1.0//EN
CALSCALE:GREGORIAN
METHOD:PUBLISH
BEGIN:VEVENT
UID:69e638a12ad6a
DTSTAMP:20260420T143057Z
DTSTART:20260507T220000Z
DTEND:20260509T220000Z
LOCATION:
SUMMARY:Parroquia San Lorenzo El Real – Burgos
DESCRIPTION:Parroquia San Lorenzo El Real – Burgos\nhttps://deretiro.es/e
 vents/parroquia-san-lorenzo-el-real-burgos/
URL:https://deretiro.es/events/parroquia-san-lorenzo-el-real-burgos/
END:VEVENT
END:VCALENDAR