BEGIN:VCALENDAR
VERSION:2.0
PRODID:-//eventon.com NONSGML v1.0//EN
CALSCALE:GREGORIAN
METHOD:PUBLISH
BEGIN:VEVENT
UID:69e6377d6f4f9
DTSTAMP:20260420T142605Z
DTSTART:20251231T230000Z
DTEND:20260629T220000Z
LOCATION:
SUMMARY:Parroquia San Juan Pablo II de Dos Hermanas – Sevilla
DESCRIPTION:Parroquia San Juan Pablo II de Dos Hermanas – Sevilla\nhttps:
 //deretiro.es/events/parroquia-san-juan-pablo-ii-de-dos-hermanas-sevilla/
URL:https://deretiro.es/events/parroquia-san-juan-pablo-ii-de-dos-hermanas-sevilla/
END:VEVENT
END:VCALENDAR