BEGIN:VCALENDAR
VERSION:2.0
PRODID:-//eventon.com NONSGML v1.0//EN
CALSCALE:GREGORIAN
METHOD:PUBLISH
BEGIN:VEVENT
UID:69e6372f57c6e
DTSTAMP:20260420T142447Z
DTSTART:20251231T230000Z
DTEND:20260629T220000Z
LOCATION:
SUMMARY:Parroquia San Román Mártir – Cuenca
DESCRIPTION:Parroquia San Román Mártir – Cuenca\nhttps://deretiro.es/ev
 ents/parroquia-san-roman-martir-cuenca/
URL:https://deretiro.es/events/parroquia-san-roman-martir-cuenca/
END:VEVENT
END:VCALENDAR