BEGIN:VCALENDAR
VERSION:2.0
PRODID:-//eventon.com NONSGML v1.0//EN
CALSCALE:GREGORIAN
METHOD:PUBLISH
BEGIN:VEVENT
UID:69e63704b963e
DTSTAMP:20260420T142404Z
DTSTART:20260528T220000Z
DTEND:20260530T220000Z
LOCATION:
SUMMARY:Parroquia San Martín de la Carrera – Asturias
DESCRIPTION:Parroquia San Martín de la Carrera – Asturias\nhttps://deret
 iro.es/events/parroquia-san-martin-de-la-carrera-asturias/
URL:https://deretiro.es/events/parroquia-san-martin-de-la-carrera-asturias/
END:VEVENT
END:VCALENDAR