BEGIN:VCALENDAR
VERSION:2.0
PRODID:-//eventon.com NONSGML v1.0//EN
CALSCALE:GREGORIAN
METHOD:PUBLISH
BEGIN:VEVENT
UID:69e6366e3fe0d
DTSTAMP:20260420T142134Z
DTSTART:20260528T220000Z
DTEND:20260530T220000Z
LOCATION:
SUMMARY:Parroquia San Francisco de Asís - Vigo
DESCRIPTION:Parroquia San Francisco de Asís - Vigo\nhttps://deretiro.es/ev
 ents/parroquia-san-francisco-de-asis-vigo/
URL:https://deretiro.es/events/parroquia-san-francisco-de-asis-vigo/
END:VEVENT
END:VCALENDAR