BEGIN:VCALENDAR
VERSION:2.0
PRODID:-//eventon.com NONSGML v1.0//EN
CALSCALE:GREGORIAN
METHOD:PUBLISH
BEGIN:VEVENT
UID:69e80fca950f4
DTSTAMP:20260422T000114Z
DTSTART:20260527T220000Z
DTEND:20260530T220000Z
LOCATION:
SUMMARY:Diócesis de Bilbao
DESCRIPTION:Diócesis de Bilbao\nhttps://deretiro.es/events/diocesis-de-bil
 bao/
URL:https://deretiro.es/events/diocesis-de-bilbao/
END:VEVENT
END:VCALENDAR