BEGIN:VCALENDAR
VERSION:2.0
PRODID:-//eventon.com NONSGML v1.0//EN
CALSCALE:GREGORIAN
METHOD:PUBLISH
BEGIN:VEVENT
UID:69ed17d25921d
DTSTAMP:20260425T193650Z
DTSTART:20231103T230000Z
DTEND:20231103T230000Z
LOCATION:
SUMMARY:Parroquia Santa Teresa de Jesús de Tres Cantos – Madrid
DESCRIPTION:Parroquia Santa Teresa de Jesús de Tres Cantos – Madrid\nhtt
 ps://deretiro.es/events/parroquia-santa-teresa-de-jesus-de-tres-cantos-madr
 id-2/
URL:https://deretiro.es/events/parroquia-santa-teresa-de-jesus-de-tres-cantos-madrid-2/
END:VEVENT
END:VCALENDAR