BEGIN:VCALENDAR
VERSION:2.0
PRODID:-//eventon.com NONSGML v1.0//EN
CALSCALE:GREGORIAN
METHOD:PUBLISH
BEGIN:VEVENT
UID:69e6377d6cee6
DTSTAMP:20260420T142605Z
DTSTART:20251231T230000Z
DTEND:20260629T220000Z
LOCATION:
SUMMARY:Parroquia Nuestra Señora del Rosario de Amara - San Sebastian
DESCRIPTION:Parroquia Nuestra Señora del Rosario de Amara - San Sebastian\
 nhttps://deretiro.es/events/parroquia-nuestra-senora-del-rosario-de-amara-s
 an-sebastian/
URL:https://deretiro.es/events/parroquia-nuestra-senora-del-rosario-de-amara-san-sebastian/
END:VEVENT
END:VCALENDAR