BEGIN:VCALENDAR
VERSION:2.0
PRODID:-//eventon.com NONSGML v1.0//EN
CALSCALE:GREGORIAN
METHOD:PUBLISH
BEGIN:VEVENT
UID:69e63722897fa
DTSTAMP:20260420T142434Z
DTSTART:20251231T230000Z
DTEND:20260629T220000Z
LOCATION:
SUMMARY:Parroquia Santo Tomás de Aquino – Cádiz
DESCRIPTION:Parroquia Santo Tomás de Aquino – Cádiz\nhttps://deretiro.e
 s/events/parroquia-santo-tomas-de-aquino-cadiz/
URL:https://deretiro.es/events/parroquia-santo-tomas-de-aquino-cadiz/
END:VEVENT
END:VCALENDAR