BEGIN:VCALENDAR
VERSION:2.0
PRODID:-//eventon.com NONSGML v1.0//EN
CALSCALE:GREGORIAN
METHOD:PUBLISH
BEGIN:VEVENT
UID:69e682d05f534
DTSTAMP:20260420T194728Z
DTSTART:20240401T153000Z
DTEND:20240401T163000Z
LOCATION:
SUMMARY:Parroquia Asunción de Nuestra Señora de la Zubia – Granada
DESCRIPTION:Parroquia Asunción de Nuestra Señora de la Zubia – Granada\
 nhttps://deretiro.es/events/parroquia-asuncion-de-nuestra-senora-de-la-zubi
 a-granada/
URL:https://deretiro.es/events/parroquia-asuncion-de-nuestra-senora-de-la-zubia-granada/
END:VEVENT
END:VCALENDAR