BEGIN:VCALENDAR
VERSION:2.0
PRODID:-//eventon.com NONSGML v1.0//EN
CALSCALE:GREGORIAN
METHOD:PUBLISH
BEGIN:VEVENT
UID:69e693736c6d9
DTSTAMP:20260420T205827Z
DTSTART:20240417T160000Z
DTEND:20240417T170000Z
LOCATION:
SUMMARY:Iglesia de la Victoria de Motril – Granada
DESCRIPTION:Iglesia de la Victoria de Motril – Granada\nhttps://deretiro.
 es/events/iglesia-de-la-victoria-de-motril-granada/
URL:https://deretiro.es/events/iglesia-de-la-victoria-de-motril-granada/
END:VEVENT
END:VCALENDAR