BEGIN:VCALENDAR
VERSION:2.0
PRODID:-//eventon.com NONSGML v1.0//EN
CALSCALE:GREGORIAN
METHOD:PUBLISH
BEGIN:VEVENT
UID:69e8e5d375580
DTSTAMP:20260422T151427Z
DTSTART:20240707T153000Z
DTEND:20240707T163000Z
LOCATION:
SUMMARY:Parroquia Nuestra Señora de la Asunción de Villacañas – Toledo
DESCRIPTION:Parroquia Nuestra Señora de la Asunción de Villacañas – To
 ledo\nhttps://deretiro.es/events/parroquia-nuestra-senora-de-la-asuncion-de
 -villacanas-toledo/
URL:https://deretiro.es/events/parroquia-nuestra-senora-de-la-asuncion-de-villacanas-toledo/
END:VEVENT
END:VCALENDAR