BEGIN:VCALENDAR
VERSION:2.0
PRODID:-//eventon.com NONSGML v1.0//EN
CALSCALE:GREGORIAN
METHOD:PUBLISH
BEGIN:VEVENT
UID:69e63687d4c85
DTSTAMP:20260420T142159Z
DTSTART:20251231T230000Z
DTEND:20260629T220000Z
LOCATION:
SUMMARY:Parroquia San Marcelo – León
DESCRIPTION:Parroquia San Marcelo – León\nhttps://deretiro.es/events/par
 roquia-san-marcelo-leon/
URL:https://deretiro.es/events/parroquia-san-marcelo-leon/
END:VEVENT
END:VCALENDAR