BEGIN:VCALENDAR
VERSION:2.0
PRODID:-//eventon.com NONSGML v1.0//EN
CALSCALE:GREGORIAN
METHOD:PUBLISH
BEGIN:VEVENT
UID:69ed6dae17a89
DTSTAMP:20260426T014310Z
DTSTART:20240916T170000Z
DTEND:20240916T190000Z
LOCATION:
SUMMARY:Parroquia Sant Julia de Campos - Mallorca
DESCRIPTION:Parroquia Sant Julia de Campos - Mallorca\nhttps://deretiro.es/
 events/parroquia-sant-julia-de-campos-mallorca-2/
URL:https://deretiro.es/events/parroquia-sant-julia-de-campos-mallorca-2/
END:VEVENT
END:VCALENDAR