BEGIN:VCALENDAR
VERSION:2.0
PRODID:-//eventon.com NONSGML v1.0//EN
CALSCALE:GREGORIAN
METHOD:PUBLISH
BEGIN:VEVENT
UID:69e636671f917
DTSTAMP:20260420T142127Z
DTSTART:20260101
DTEND:20260102
LOCATION:
SUMMARY:Parroquia San Juan Bautista - Vitoria
DESCRIPTION:Parroquia San Juan Bautista - Vitoria\nhttps://deretiro.es/even
 ts/parroquia-san-juan-bautista-vitoria/
URL:https://deretiro.es/events/parroquia-san-juan-bautista-vitoria/
END:VEVENT
END:VCALENDAR