BEGIN:VCALENDAR
VERSION:2.0
PRODID:-//eventon.com NONSGML v1.0//EN
CALSCALE:GREGORIAN
METHOD:PUBLISH
BEGIN:VEVENT
UID:69e636bf9c5c6
DTSTAMP:20260420T142255Z
DTSTART:20260514T220000Z
DTEND:20260516T220000Z
LOCATION:
SUMMARY:Parroquia Santa Cruz de Ecija - Sevilla
DESCRIPTION:Parroquia Santa Cruz de Ecija - Sevilla\nhttps://deretiro.es/ev
 ents/parroquia-santa-cruz-de-ecija-sevilla/
URL:https://deretiro.es/events/parroquia-santa-cruz-de-ecija-sevilla/
END:VEVENT
END:VCALENDAR