BEGIN:VCALENDAR
VERSION:2.0
PRODID:-//eventon.com NONSGML v1.0//EN
CALSCALE:GREGORIAN
METHOD:PUBLISH
BEGIN:VEVENT
UID:69e9df3538ba5
DTSTAMP:20260423T085829Z
DTSTART:20260514T000000Z
DTEND:20260517T000000Z
LOCATION:
SUMMARY:HAKUNA - Soul Week Matrimonios
DESCRIPTION:HAKUNA - Soul Week Matrimonios\nhttps://deretiro.es/events/haku
 na-soul-week-matrimonios-2/
URL:https://deretiro.es/events/hakuna-soul-week-matrimonios-2/
END:VEVENT
END:VCALENDAR