BEGIN:VCALENDAR
VERSION:2.0
PRODID:-//eventon.com NONSGML v1.0//EN
CALSCALE:GREGORIAN
METHOD:PUBLISH
BEGIN:VEVENT
UID:69e637eb3110a
DTSTAMP:20260420T142755Z
DTSTART:20260101T000000Z
DTEND:20260630T000000Z
LOCATION:
SUMMARY:Parroquia San Francisco Solano de Montilla - Córdoba
DESCRIPTION:Parroquia San Francisco Solano de Montilla - Córdoba\nhttps://
 deretiro.es/events/parroquia-san-francisco-solano-de-montilla-cordoba/
URL:https://deretiro.es/events/parroquia-san-francisco-solano-de-montilla-cordoba/
END:VEVENT
END:VCALENDAR