BEGIN:VCALENDAR
VERSION:2.0
PRODID:-//eventon.com NONSGML v1.0//EN
CALSCALE:GREGORIAN
METHOD:PUBLISH
BEGIN:VEVENT
UID:69e6377ee2bcc
DTSTAMP:20260420T142606Z
DTSTART:20260101T100000Z
DTEND:20260630T090000Z
LOCATION:
SUMMARY:Parroquia San Blas - Cáceres
DESCRIPTION:Parroquia San Blas - Cáceres\nhttps://deretiro.es/events/parro
 quia-san-blas-caceres/
URL:https://deretiro.es/events/parroquia-san-blas-caceres/
END:VEVENT
END:VCALENDAR