BEGIN:VCALENDAR
VERSION:2.0
PRODID:-//eventon.com NONSGML v1.0//EN
CALSCALE:GREGORIAN
METHOD:PUBLISH
BEGIN:VEVENT
UID:69e7a838f01f3
DTSTAMP:20260421T163920Z
DTSTART:20260313T000000Z
DTEND:20260315T000000Z
LOCATION:
SUMMARY:Parroquia San José Artesano - San Fernando- Cádiz
DESCRIPTION:Parroquia San José Artesano - San Fernando- Cádiz\nhttps://de
 retiro.es/events/parroquia-san-jose-artesano-san-fernando-cadiz/
URL:https://deretiro.es/events/parroquia-san-jose-artesano-san-fernando-cadiz/
END:VEVENT
END:VCALENDAR