BEGIN:VCALENDAR
VERSION:2.0
PRODID:-//eventon.com NONSGML v1.0//EN
CALSCALE:GREGORIAN
METHOD:PUBLISH
BEGIN:VEVENT
UID:69e6368957ad0
DTSTAMP:20260420T142201Z
DTSTART:20260507T220000Z
DTEND:20260509T220000Z
LOCATION:
SUMMARY:Parroquia San Millán – Segovia
DESCRIPTION:Parroquia San Millán – Segovia\nhttps://deretiro.es/events/p
 arroquia-san-millan-segovia-2/
URL:https://deretiro.es/events/parroquia-san-millan-segovia-2/
END:VEVENT
END:VCALENDAR