BEGIN:VCALENDAR
VERSION:2.0
PRODID:-//eventon.com NONSGML v1.0//EN
CALSCALE:GREGORIAN
METHOD:PUBLISH
BEGIN:VEVENT
UID:69e636c6b88d3
DTSTAMP:20260420T142302Z
DTSTART:20251231T230000Z
DTEND:20260629T220000Z
LOCATION:
SUMMARY:Parroquia Mártires Valencianos- Valencia
DESCRIPTION:Parroquia Mártires Valencianos- Valencia\nhttps://deretiro.es/
 events/parroquia-martires-valencianos-valencia/
URL:https://deretiro.es/events/parroquia-martires-valencianos-valencia/
END:VEVENT
END:VCALENDAR