BEGIN:VCALENDAR
VERSION:2.0
PRODID:-//eventon.com NONSGML v1.0//EN
CALSCALE:GREGORIAN
METHOD:PUBLISH
BEGIN:VEVENT
UID:69e7fb48e8b8b
DTSTAMP:20260421T223344Z
DTSTART:20260515T000000Z
DTEND:20260517T000000Z
LOCATION:
SUMMARY:Retiro Nicodemo. Parroquia Santa Inés - Barcelona
DESCRIPTION:Retiro Nicodemo. Parroquia Santa Inés - Barcelona\nhttps://der
 etiro.es/events/retiro-nicodemo-parroquia-santa-ines-barcelona/
URL:https://deretiro.es/events/retiro-nicodemo-parroquia-santa-ines-barcelona/
END:VEVENT
END:VCALENDAR