BEGIN:VCALENDAR
VERSION:2.0
PRODID:-//eventon.com NONSGML v1.0//EN
CALSCALE:GREGORIAN
METHOD:PUBLISH
BEGIN:VEVENT
UID:69e637d49e395
DTSTAMP:20260420T142732Z
DTSTART:20260101T000000Z
DTEND:20260630T000000Z
LOCATION:
SUMMARY:Parroquia San Andrés de Calahorra - La Rioja
DESCRIPTION:Parroquia San Andrés de Calahorra - La Rioja\nhttps://deretiro
 .es/events/parroquia-san-andres-de-calahorra-la-rioja/
URL:https://deretiro.es/events/parroquia-san-andres-de-calahorra-la-rioja/
END:VEVENT
END:VCALENDAR