BEGIN:VCALENDAR
VERSION:2.0
PRODID:-//eventon.com NONSGML v1.0//EN
CALSCALE:GREGORIAN
METHOD:PUBLISH
BEGIN:VEVENT
UID:69e637229a336
DTSTAMP:20260420T142434Z
DTSTART:20251231T230000Z
DTEND:20260629T220000Z
LOCATION:
SUMMARY:Parroquia San Ginés Obispo de Lanzarote
DESCRIPTION:Parroquia San Ginés Obispo de Lanzarote\nhttps://deretiro.es/e
 vents/parroquia-san-gines-obispo-de-lanzarote-2/
URL:https://deretiro.es/events/parroquia-san-gines-obispo-de-lanzarote-2/
END:VEVENT
END:VCALENDAR