BEGIN:VCALENDAR
VERSION:2.0
PRODID:-//eventon.com NONSGML v1.0//EN
CALSCALE:GREGORIAN
METHOD:PUBLISH
BEGIN:VEVENT
UID:69e63723ad70d
DTSTAMP:20260420T142435Z
DTSTART:20260521T220000Z
DTEND:20260523T220000Z
LOCATION:
SUMMARY:Parroquia Purísima de Bétera - Valencia
DESCRIPTION:Parroquia Purísima de Bétera - Valencia\nhttps://deretiro.es/
 events/parroquia-purisima-de-betera-valencia-2/
URL:https://deretiro.es/events/parroquia-purisima-de-betera-valencia-2/
END:VEVENT
END:VCALENDAR