BEGIN:VCALENDAR
VERSION:2.0
PRODID:-//eventon.com NONSGML v1.0//EN
CALSCALE:GREGORIAN
METHOD:PUBLISH
BEGIN:VEVENT
UID:69e6360537e81
DTSTAMP:20260420T141949Z
DTSTART:20260911T000000Z
DTEND:20261220T000000Z
LOCATION:
SUMMARY:Parroquia Santísima Cruz - ALICANTE
DESCRIPTION:Parroquia Santísima Cruz - ALICANTE\nhttps://deretiro.es/event
 s/parroquia-santisima-cruz-alicante/
URL:https://deretiro.es/events/parroquia-santisima-cruz-alicante/
END:VEVENT
END:VCALENDAR