BEGIN:VCALENDAR
VERSION:2.0
PRODID:-//eventon.com NONSGML v1.0//EN
CALSCALE:GREGORIAN
METHOD:PUBLISH
BEGIN:VEVENT
UID:69e7fbf8a0ca3
DTSTAMP:20260421T223640Z
DTSTART:20260508T000000Z
DTEND:20260510T000000Z
LOCATION:
SUMMARY:MAS QUE SALUD II - SALAMANCA.
DESCRIPTION:MAS QUE SALUD II - SALAMANCA.\nhttps://deretiro.es/events/mas-q
 ue-salud-ii-salamanca/
URL:https://deretiro.es/events/mas-que-salud-ii-salamanca/
END:VEVENT
END:VCALENDAR