BEGIN:VCALENDAR
VERSION:2.0
PRODID:-//eventon.com NONSGML v1.0//EN
CALSCALE:GREGORIAN
METHOD:PUBLISH
BEGIN:VEVENT
UID:69ea355521b60
DTSTAMP:20260423T150557Z
DTSTART:20260429T000000Z
DTEND:20260502T000000Z
LOCATION:
SUMMARY:Diocesis de Zaragoza
DESCRIPTION:Diocesis de Zaragoza\nhttps://deretiro.es/events/diocesis-de-za
 ragoza/
URL:https://deretiro.es/events/diocesis-de-zaragoza/
END:VEVENT
END:VCALENDAR